BEGIN:VCALENDAR
VERSION:2.0
PRODID:-//Harmony House India - ECPv6.15.11//NONSGML v1.0//EN
CALSCALE:GREGORIAN
METHOD:PUBLISH
X-WR-CALNAME:Harmony House India
X-ORIGINAL-URL:https://www.harmonyhouseindia.org
X-WR-CALDESC:Events for Harmony House India
REFRESH-INTERVAL;VALUE=DURATION:PT1H
X-Robots-Tag:noindex
X-PUBLISHED-TTL:PT1H
BEGIN:VTIMEZONE
TZID:UTC
BEGIN:STANDARD
TZOFFSETFROM:+0000
TZOFFSETTO:+0000
TZNAME:UTC
DTSTART:20220101T000000
END:STANDARD
END:VTIMEZONE
BEGIN:VEVENT
DTSTART;VALUE=DATE:20230905
DTEND;VALUE=DATE:20230906
DTSTAMP:20260423T181431
CREATED:20230104T125743Z
LAST-MODIFIED:20230104T125743Z
UID:7971-1693872000-1693958399@www.harmonyhouseindia.org
SUMMARY:Teacher's Day
DESCRIPTION:
URL:https://www.harmonyhouseindia.org/news-and-events/teachers-day/
END:VEVENT
BEGIN:VEVENT
DTSTART;VALUE=DATE:20230830
DTEND;VALUE=DATE:20230831
DTSTAMP:20260423T181431
CREATED:20230104T125654Z
LAST-MODIFIED:20230104T125654Z
UID:7969-1693353600-1693439999@www.harmonyhouseindia.org
SUMMARY:Rakshabandhan
DESCRIPTION:
URL:https://www.harmonyhouseindia.org/news-and-events/rakshabandhan/
END:VEVENT
BEGIN:VEVENT
DTSTART;VALUE=DATE:20230822
DTEND;VALUE=DATE:20230823
DTSTAMP:20260423T181431
CREATED:20230104T125153Z
LAST-MODIFIED:20230104T125153Z
UID:7967-1692662400-1692748799@www.harmonyhouseindia.org
SUMMARY:Ganesh Chaturthi
DESCRIPTION:
URL:https://www.harmonyhouseindia.org/news-and-events/ganesh-chaturthi/
END:VEVENT
BEGIN:VEVENT
DTSTART;VALUE=DATE:20230815
DTEND;VALUE=DATE:20230816
DTSTAMP:20260423T181431
CREATED:20230104T124811Z
LAST-MODIFIED:20230104T124811Z
UID:7965-1692057600-1692143999@www.harmonyhouseindia.org
SUMMARY:Independence Day
DESCRIPTION:
URL:https://www.harmonyhouseindia.org/news-and-events/independence-day/
END:VEVENT
BEGIN:VEVENT
DTSTART;VALUE=DATE:20230720
DTEND;VALUE=DATE:20230721
DTSTAMP:20260423T181431
CREATED:20230104T124716Z
LAST-MODIFIED:20230104T124716Z
UID:7963-1689811200-1689897599@www.harmonyhouseindia.org
SUMMARY:World Chess Day
DESCRIPTION:
URL:https://www.harmonyhouseindia.org/news-and-events/world-chess-day/
END:VEVENT
BEGIN:VEVENT
DTSTART;VALUE=DATE:20230715
DTEND;VALUE=DATE:20230716
DTSTAMP:20260423T181431
CREATED:20230104T124637Z
LAST-MODIFIED:20230104T124637Z
UID:7961-1689379200-1689465599@www.harmonyhouseindia.org
SUMMARY:World Youth Skill Day
DESCRIPTION:
URL:https://www.harmonyhouseindia.org/news-and-events/world-youth-skill-day/
END:VEVENT
BEGIN:VEVENT
DTSTART;VALUE=DATE:20230713
DTEND;VALUE=DATE:20230714
DTSTAMP:20260423T181431
CREATED:20230104T124552Z
LAST-MODIFIED:20230104T124552Z
UID:7959-1689206400-1689292799@www.harmonyhouseindia.org
SUMMARY:World ADHD Day
DESCRIPTION:
URL:https://www.harmonyhouseindia.org/news-and-events/world-adhd-day/
END:VEVENT
BEGIN:VEVENT
DTSTART;VALUE=DATE:20230703
DTEND;VALUE=DATE:20230704
DTSTAMP:20260423T181431
CREATED:20230104T124506Z
LAST-MODIFIED:20230104T124506Z
UID:7957-1688342400-1688428799@www.harmonyhouseindia.org
SUMMARY:International Plastic Bag Free Day
DESCRIPTION:
URL:https://www.harmonyhouseindia.org/news-and-events/international-plastic-bag-free-day/
END:VEVENT
BEGIN:VEVENT
DTSTART;VALUE=DATE:20230626
DTEND;VALUE=DATE:20230627
DTSTAMP:20260423T181431
CREATED:20230104T124401Z
LAST-MODIFIED:20230104T124401Z
UID:7955-1687737600-1687823999@www.harmonyhouseindia.org
SUMMARY:International Day against Drug Abus
DESCRIPTION:
URL:https://www.harmonyhouseindia.org/news-and-events/international-day-against-drug-abus/
END:VEVENT
BEGIN:VEVENT
DTSTART;VALUE=DATE:20230621
DTEND;VALUE=DATE:20230622
DTSTAMP:20260423T181431
CREATED:20230104T124315Z
LAST-MODIFIED:20230104T124315Z
UID:7953-1687305600-1687391999@www.harmonyhouseindia.org
SUMMARY:International Day of Yoga / World Music Day
DESCRIPTION:
URL:https://www.harmonyhouseindia.org/news-and-events/international-day-of-yoga-world-music-day/
END:VEVENT
BEGIN:VEVENT
DTSTART;VALUE=DATE:20230605
DTEND;VALUE=DATE:20230606
DTSTAMP:20260423T181431
CREATED:20230104T124218Z
LAST-MODIFIED:20230104T124218Z
UID:7951-1685923200-1686009599@www.harmonyhouseindia.org
SUMMARY:World Environment Day
DESCRIPTION:
URL:https://www.harmonyhouseindia.org/news-and-events/world-environment-day/
END:VEVENT
BEGIN:VEVENT
DTSTART;VALUE=DATE:20230604
DTEND;VALUE=DATE:20230605
DTSTAMP:20260423T181431
CREATED:20230104T124118Z
LAST-MODIFIED:20230104T124118Z
UID:7949-1685836800-1685923199@www.harmonyhouseindia.org
SUMMARY:International Day of Innocent Children Victims of Aggression
DESCRIPTION:
URL:https://www.harmonyhouseindia.org/news-and-events/international-day-of-innocent-children-victims-of-aggression/
END:VEVENT
BEGIN:VEVENT
DTSTART;VALUE=DATE:20230505
DTEND;VALUE=DATE:20230506
DTSTAMP:20260423T181431
CREATED:20230104T124009Z
LAST-MODIFIED:20230104T124009Z
UID:7947-1683244800-1683331199@www.harmonyhouseindia.org
SUMMARY:World Athletics Day
DESCRIPTION:
URL:https://www.harmonyhouseindia.org/news-and-events/world-athletics-day/
END:VEVENT
BEGIN:VEVENT
DTSTART;VALUE=DATE:20230504
DTEND;VALUE=DATE:20230505
DTSTAMP:20260423T181431
CREATED:20230104T123935Z
LAST-MODIFIED:20230104T123935Z
UID:7945-1683158400-1683244799@www.harmonyhouseindia.org
SUMMARY:Anxiety & Depression Awareness day
DESCRIPTION:
URL:https://www.harmonyhouseindia.org/news-and-events/anxiety-depression-awareness-day/
END:VEVENT
BEGIN:VEVENT
DTSTART;VALUE=DATE:20230422
DTEND;VALUE=DATE:20230423
DTSTAMP:20260423T181431
CREATED:20230104T123851Z
LAST-MODIFIED:20230104T123851Z
UID:7943-1682121600-1682207999@www.harmonyhouseindia.org
SUMMARY:Earth Day
DESCRIPTION:
URL:https://www.harmonyhouseindia.org/news-and-events/earth-day/
END:VEVENT
BEGIN:VEVENT
DTSTART;VALUE=DATE:20230407
DTEND;VALUE=DATE:20230408
DTSTAMP:20260423T181431
CREATED:20230104T123817Z
LAST-MODIFIED:20230104T123817Z
UID:7941-1680825600-1680911999@www.harmonyhouseindia.org
SUMMARY:World Health Day
DESCRIPTION:
URL:https://www.harmonyhouseindia.org/news-and-events/world-health-day/
END:VEVENT
BEGIN:VEVENT
DTSTART;VALUE=DATE:20230402
DTEND;VALUE=DATE:20230403
DTSTAMP:20260423T181431
CREATED:20230104T123747Z
LAST-MODIFIED:20230104T123747Z
UID:7939-1680393600-1680479999@www.harmonyhouseindia.org
SUMMARY:World Autism Awareness Day
DESCRIPTION:
URL:https://www.harmonyhouseindia.org/news-and-events/world-autism-awareness-day/
END:VEVENT
BEGIN:VEVENT
DTSTART;VALUE=DATE:20230330
DTEND;VALUE=DATE:20230331
DTSTAMP:20260423T181431
CREATED:20230104T123559Z
LAST-MODIFIED:20230104T123559Z
UID:7937-1680134400-1680220799@www.harmonyhouseindia.org
SUMMARY:Ram Navmi
DESCRIPTION:
URL:https://www.harmonyhouseindia.org/news-and-events/ram-navmi/
END:VEVENT
BEGIN:VEVENT
DTSTART;VALUE=DATE:20230327
DTEND;VALUE=DATE:20230328
DTSTAMP:20260423T181431
CREATED:20221118T062244Z
LAST-MODIFIED:20221118T062244Z
UID:7012-1679875200-1679961599@www.harmonyhouseindia.org
SUMMARY:World Theatre day
DESCRIPTION:
URL:https://www.harmonyhouseindia.org/news-and-events/world-theatre-day/
END:VEVENT
BEGIN:VEVENT
DTSTART;VALUE=DATE:20230324
DTEND;VALUE=DATE:20230325
DTSTAMP:20260423T181431
CREATED:20221118T062203Z
LAST-MODIFIED:20221118T062203Z
UID:7010-1679616000-1679702399@www.harmonyhouseindia.org
SUMMARY:World TB day
DESCRIPTION:
URL:https://www.harmonyhouseindia.org/news-and-events/world-tb-day/
END:VEVENT
BEGIN:VEVENT
DTSTART;VALUE=DATE:20230322
DTEND;VALUE=DATE:20230323
DTSTAMP:20260423T181431
CREATED:20221118T062122Z
LAST-MODIFIED:20221118T062122Z
UID:7008-1679443200-1679529599@www.harmonyhouseindia.org
SUMMARY:World Water day
DESCRIPTION:
URL:https://www.harmonyhouseindia.org/news-and-events/world-water-day/
END:VEVENT
BEGIN:VEVENT
DTSTART;VALUE=DATE:20230321
DTEND;VALUE=DATE:20230322
DTSTAMP:20260423T181431
CREATED:20221118T062044Z
LAST-MODIFIED:20221118T062044Z
UID:7006-1679356800-1679443199@www.harmonyhouseindia.org
SUMMARY:World Pupperty day/  Down Syndrome day
DESCRIPTION:
URL:https://www.harmonyhouseindia.org/news-and-events/world-pupperty-day-down-syndrome-day/
END:VEVENT
BEGIN:VEVENT
DTSTART;VALUE=DATE:20230310
DTEND;VALUE=DATE:20230311
DTSTAMP:20260423T181431
CREATED:20221118T061858Z
LAST-MODIFIED:20221118T062501Z
UID:7004-1678406400-1678492799@www.harmonyhouseindia.org
SUMMARY:Workshop On first AID
DESCRIPTION:
URL:https://www.harmonyhouseindia.org/news-and-events/workshop-on-first-aid-2/
END:VEVENT
BEGIN:VEVENT
DTSTART;VALUE=DATE:20230309
DTEND;VALUE=DATE:20230310
DTSTAMP:20260423T181431
CREATED:20221118T061822Z
LAST-MODIFIED:20221118T061822Z
UID:7002-1678320000-1678406399@www.harmonyhouseindia.org
SUMMARY:No smoking day
DESCRIPTION:
URL:https://www.harmonyhouseindia.org/news-and-events/no-smoking-day/
END:VEVENT
BEGIN:VEVENT
DTSTART;VALUE=DATE:20230308
DTEND;VALUE=DATE:20230309
DTSTAMP:20260423T181431
CREATED:20221118T061729Z
LAST-MODIFIED:20221118T061747Z
UID:6999-1678233600-1678319999@www.harmonyhouseindia.org
SUMMARY:International Women's day / Holi
DESCRIPTION:
URL:https://www.harmonyhouseindia.org/news-and-events/international-womens-day-holi/
END:VEVENT
BEGIN:VEVENT
DTSTART;VALUE=DATE:20230304
DTEND;VALUE=DATE:20230305
DTSTAMP:20260423T181431
CREATED:20221118T061645Z
LAST-MODIFIED:20221118T061645Z
UID:6997-1677888000-1677974399@www.harmonyhouseindia.org
SUMMARY:World fight Against sexual exploitation
DESCRIPTION:
URL:https://www.harmonyhouseindia.org/news-and-events/world-fight-against-sexual-exploitation/
END:VEVENT
BEGIN:VEVENT
DTSTART;VALUE=DATE:20230303
DTEND;VALUE=DATE:20230304
DTSTAMP:20260423T181431
CREATED:20221118T061616Z
LAST-MODIFIED:20221118T061616Z
UID:6995-1677801600-1677887999@www.harmonyhouseindia.org
SUMMARY:Wild life day / World hearing day
DESCRIPTION:
URL:https://www.harmonyhouseindia.org/news-and-events/wild-life-day-world-hearing-day/
END:VEVENT
BEGIN:VEVENT
DTSTART;VALUE=DATE:20230302
DTEND;VALUE=DATE:20230303
DTSTAMP:20260423T181431
CREATED:20221118T061541Z
LAST-MODIFIED:20221118T061541Z
UID:6993-1677715200-1677801599@www.harmonyhouseindia.org
SUMMARY:Sleep awareness day
DESCRIPTION:
URL:https://www.harmonyhouseindia.org/news-and-events/sleep-awareness-day/
END:VEVENT
BEGIN:VEVENT
DTSTART;VALUE=DATE:20230301
DTEND;VALUE=DATE:20230302
DTSTAMP:20260423T181431
CREATED:20221118T061512Z
LAST-MODIFIED:20221118T061512Z
UID:6991-1677628800-1677715199@www.harmonyhouseindia.org
SUMMARY:Zero Discrimination day
DESCRIPTION:
URL:https://www.harmonyhouseindia.org/news-and-events/zero-discrimination-day/
END:VEVENT
BEGIN:VEVENT
DTSTART;VALUE=DATE:20230214
DTEND;VALUE=DATE:20230215
DTSTAMP:20260423T181431
CREATED:20221118T061427Z
LAST-MODIFIED:20221118T061427Z
UID:6989-1676332800-1676419199@www.harmonyhouseindia.org
SUMMARY:Valentine Day
DESCRIPTION:
URL:https://www.harmonyhouseindia.org/news-and-events/valentine-day/
END:VEVENT
END:VCALENDAR