BEGIN:VCALENDAR
VERSION:2.0
PRODID:-//Harmony House India - ECPv6.15.11//NONSGML v1.0//EN
CALSCALE:GREGORIAN
METHOD:PUBLISH
X-WR-CALNAME:Harmony House India
X-ORIGINAL-URL:https://www.harmonyhouseindia.org
X-WR-CALDESC:Events for Harmony House India
REFRESH-INTERVAL;VALUE=DURATION:PT1H
X-Robots-Tag:noindex
X-PUBLISHED-TTL:PT1H
BEGIN:VTIMEZONE
TZID:UTC
BEGIN:STANDARD
TZOFFSETFROM:+0000
TZOFFSETTO:+0000
TZNAME:UTC
DTSTART:20220101T000000
END:STANDARD
END:VTIMEZONE
BEGIN:VEVENT
DTSTART;VALUE=DATE:20231225
DTEND;VALUE=DATE:20231226
DTSTAMP:20260423T145909
CREATED:20230104T131936Z
LAST-MODIFIED:20230104T131936Z
UID:8005-1703462400-1703548799@www.harmonyhouseindia.org
SUMMARY:Christmas
DESCRIPTION:
URL:https://www.harmonyhouseindia.org/news-and-events/christmas/
END:VEVENT
BEGIN:VEVENT
DTSTART;VALUE=DATE:20231222
DTEND;VALUE=DATE:20231223
DTSTAMP:20260423T145909
CREATED:20230104T131902Z
LAST-MODIFIED:20230104T131902Z
UID:8003-1703203200-1703289599@www.harmonyhouseindia.org
SUMMARY:National Mathematics Day
DESCRIPTION:
URL:https://www.harmonyhouseindia.org/news-and-events/national-mathematics-day-2/
END:VEVENT
BEGIN:VEVENT
DTSTART;VALUE=DATE:20231210
DTEND;VALUE=DATE:20231211
DTSTAMP:20260423T145909
CREATED:20230104T131010Z
LAST-MODIFIED:20230104T131810Z
UID:8001-1702166400-1702252799@www.harmonyhouseindia.org
SUMMARY:Human Rights Day
DESCRIPTION:
URL:https://www.harmonyhouseindia.org/news-and-events/human-rights-day-2/
END:VEVENT
BEGIN:VEVENT
DTSTART;VALUE=DATE:20231202
DTEND;VALUE=DATE:20231203
DTSTAMP:20260423T145909
CREATED:20230104T130913Z
LAST-MODIFIED:20230104T130913Z
UID:7999-1701475200-1701561599@www.harmonyhouseindia.org
SUMMARY:National Pollution Control Day
DESCRIPTION:
URL:https://www.harmonyhouseindia.org/news-and-events/national-pollution-control-day/
END:VEVENT
BEGIN:VEVENT
DTSTART;VALUE=DATE:20231125
DTEND;VALUE=DATE:20231126
DTSTAMP:20260423T145909
CREATED:20230104T130825Z
LAST-MODIFIED:20230104T130825Z
UID:7997-1700870400-1700956799@www.harmonyhouseindia.org
SUMMARY:World Domestic Violence Day
DESCRIPTION:
URL:https://www.harmonyhouseindia.org/news-and-events/world-domestic-violence-day/
END:VEVENT
BEGIN:VEVENT
DTSTART;VALUE=DATE:20231114
DTEND;VALUE=DATE:20231115
DTSTAMP:20260423T145909
CREATED:20230104T132701Z
LAST-MODIFIED:20230104T132701Z
UID:8011-1699920000-1700006399@www.harmonyhouseindia.org
SUMMARY:Children's Day
DESCRIPTION:
URL:https://www.harmonyhouseindia.org/news-and-events/childrens-day/
END:VEVENT
BEGIN:VEVENT
DTSTART;VALUE=DATE:20231114
DTEND;VALUE=DATE:20231115
DTSTAMP:20260423T145909
CREATED:20230104T130700Z
LAST-MODIFIED:20230104T130700Z
UID:7995-1699920000-1700006399@www.harmonyhouseindia.org
SUMMARY:Bhai Dooj
DESCRIPTION:
URL:https://www.harmonyhouseindia.org/news-and-events/bhai-dooj/
END:VEVENT
BEGIN:VEVENT
DTSTART;VALUE=DATE:20231113
DTEND;VALUE=DATE:20231114
DTSTAMP:20260423T145909
CREATED:20230104T130627Z
LAST-MODIFIED:20230104T130627Z
UID:7993-1699833600-1699919999@www.harmonyhouseindia.org
SUMMARY:Diwali  Govardhan Pooja
DESCRIPTION:
URL:https://www.harmonyhouseindia.org/news-and-events/diwali-govardhan-pooja/
END:VEVENT
BEGIN:VEVENT
DTSTART;VALUE=DATE:20231111
DTEND;VALUE=DATE:20231112
DTSTAMP:20260423T145909
CREATED:20230104T130555Z
LAST-MODIFIED:20230104T130555Z
UID:7991-1699660800-1699747199@www.harmonyhouseindia.org
SUMMARY:Diwali
DESCRIPTION:
URL:https://www.harmonyhouseindia.org/news-and-events/diwali/
END:VEVENT
BEGIN:VEVENT
DTSTART;VALUE=DATE:20231101
DTEND;VALUE=DATE:20231102
DTSTAMP:20260423T145909
CREATED:20230104T132601Z
LAST-MODIFIED:20230104T132601Z
UID:8009-1698796800-1698883199@www.harmonyhouseindia.org
SUMMARY:National Education Day / Haryana Day
DESCRIPTION:
URL:https://www.harmonyhouseindia.org/news-and-events/national-education-day-haryana-day/
END:VEVENT
BEGIN:VEVENT
DTSTART;VALUE=DATE:20231101
DTEND;VALUE=DATE:20231102
DTSTAMP:20260423T145909
CREATED:20230104T130515Z
LAST-MODIFIED:20230104T130515Z
UID:7989-1698796800-1698883199@www.harmonyhouseindia.org
SUMMARY:Karwa Chauth
DESCRIPTION:
URL:https://www.harmonyhouseindia.org/news-and-events/karwa-chauth/
END:VEVENT
BEGIN:VEVENT
DTSTART;VALUE=DATE:20231024
DTEND;VALUE=DATE:20231025
DTSTAMP:20260423T145909
CREATED:20230104T130436Z
LAST-MODIFIED:20230104T130436Z
UID:7987-1698105600-1698191999@www.harmonyhouseindia.org
SUMMARY:Dusshera
DESCRIPTION:
URL:https://www.harmonyhouseindia.org/news-and-events/dusshera/
END:VEVENT
BEGIN:VEVENT
DTSTART;VALUE=DATE:20231015
DTEND;VALUE=DATE:20231016
DTSTAMP:20260423T145909
CREATED:20230104T132344Z
LAST-MODIFIED:20230104T132344Z
UID:8007-1697328000-1697414399@www.harmonyhouseindia.org
SUMMARY:World Student's Day
DESCRIPTION:
URL:https://www.harmonyhouseindia.org/news-and-events/world-students-day/
END:VEVENT
BEGIN:VEVENT
DTSTART;VALUE=DATE:20231011
DTEND;VALUE=DATE:20231012
DTSTAMP:20260423T145909
CREATED:20230104T130400Z
LAST-MODIFIED:20230104T130400Z
UID:7985-1696982400-1697068799@www.harmonyhouseindia.org
SUMMARY:International Day of Girl Child
DESCRIPTION:
URL:https://www.harmonyhouseindia.org/news-and-events/international-day-of-girl-child/
END:VEVENT
BEGIN:VEVENT
DTSTART;VALUE=DATE:20231010
DTEND;VALUE=DATE:20231011
DTSTAMP:20260423T145909
CREATED:20230104T130301Z
LAST-MODIFIED:20230104T130301Z
UID:7983-1696896000-1696982399@www.harmonyhouseindia.org
SUMMARY:World Health Day
DESCRIPTION:
URL:https://www.harmonyhouseindia.org/news-and-events/world-health-day-2/
END:VEVENT
BEGIN:VEVENT
DTSTART;VALUE=DATE:20231004
DTEND;VALUE=DATE:20231005
DTSTAMP:20260423T145909
CREATED:20230104T130223Z
LAST-MODIFIED:20230104T130223Z
UID:7981-1696377600-1696463999@www.harmonyhouseindia.org
SUMMARY:World Animal Welfare Day
DESCRIPTION:
URL:https://www.harmonyhouseindia.org/news-and-events/world-animal-welfare-day/
END:VEVENT
BEGIN:VEVENT
DTSTART;VALUE=DATE:20231002
DTEND;VALUE=DATE:20231003
DTSTAMP:20260423T145909
CREATED:20230104T130145Z
LAST-MODIFIED:20230104T130145Z
UID:7979-1696204800-1696291199@www.harmonyhouseindia.org
SUMMARY:Gandhi Jayanti
DESCRIPTION:
URL:https://www.harmonyhouseindia.org/news-and-events/gandhi-jayanti/
END:VEVENT
BEGIN:VEVENT
DTSTART;VALUE=DATE:20230914
DTEND;VALUE=DATE:20230915
DTSTAMP:20260423T145909
CREATED:20230104T125929Z
LAST-MODIFIED:20230104T125929Z
UID:7977-1694649600-1694735999@www.harmonyhouseindia.org
SUMMARY:Hindi Diwas
DESCRIPTION:
URL:https://www.harmonyhouseindia.org/news-and-events/hindi-diwas/
END:VEVENT
BEGIN:VEVENT
DTSTART;VALUE=DATE:20230910
DTEND;VALUE=DATE:20230911
DTSTAMP:20260423T145909
CREATED:20230104T125847Z
LAST-MODIFIED:20230104T125847Z
UID:7975-1694304000-1694390399@www.harmonyhouseindia.org
SUMMARY:World Suicide Prevention Day
DESCRIPTION:
URL:https://www.harmonyhouseindia.org/news-and-events/world-suicide-prevention-day/
END:VEVENT
BEGIN:VEVENT
DTSTART;VALUE=DATE:20230907
DTEND;VALUE=DATE:20230908
DTSTAMP:20260423T145909
CREATED:20230104T125810Z
LAST-MODIFIED:20230104T125810Z
UID:7973-1694044800-1694131199@www.harmonyhouseindia.org
SUMMARY:Janmashtami
DESCRIPTION:
URL:https://www.harmonyhouseindia.org/news-and-events/janmashtami/
END:VEVENT
BEGIN:VEVENT
DTSTART;VALUE=DATE:20230905
DTEND;VALUE=DATE:20230906
DTSTAMP:20260423T145909
CREATED:20230104T125743Z
LAST-MODIFIED:20230104T125743Z
UID:7971-1693872000-1693958399@www.harmonyhouseindia.org
SUMMARY:Teacher's Day
DESCRIPTION:
URL:https://www.harmonyhouseindia.org/news-and-events/teachers-day/
END:VEVENT
BEGIN:VEVENT
DTSTART;VALUE=DATE:20230830
DTEND;VALUE=DATE:20230831
DTSTAMP:20260423T145909
CREATED:20230104T125654Z
LAST-MODIFIED:20230104T125654Z
UID:7969-1693353600-1693439999@www.harmonyhouseindia.org
SUMMARY:Rakshabandhan
DESCRIPTION:
URL:https://www.harmonyhouseindia.org/news-and-events/rakshabandhan/
END:VEVENT
BEGIN:VEVENT
DTSTART;VALUE=DATE:20230822
DTEND;VALUE=DATE:20230823
DTSTAMP:20260423T145909
CREATED:20230104T125153Z
LAST-MODIFIED:20230104T125153Z
UID:7967-1692662400-1692748799@www.harmonyhouseindia.org
SUMMARY:Ganesh Chaturthi
DESCRIPTION:
URL:https://www.harmonyhouseindia.org/news-and-events/ganesh-chaturthi/
END:VEVENT
BEGIN:VEVENT
DTSTART;VALUE=DATE:20230815
DTEND;VALUE=DATE:20230816
DTSTAMP:20260423T145909
CREATED:20230104T124811Z
LAST-MODIFIED:20230104T124811Z
UID:7965-1692057600-1692143999@www.harmonyhouseindia.org
SUMMARY:Independence Day
DESCRIPTION:
URL:https://www.harmonyhouseindia.org/news-and-events/independence-day/
END:VEVENT
BEGIN:VEVENT
DTSTART;VALUE=DATE:20230720
DTEND;VALUE=DATE:20230721
DTSTAMP:20260423T145909
CREATED:20230104T124716Z
LAST-MODIFIED:20230104T124716Z
UID:7963-1689811200-1689897599@www.harmonyhouseindia.org
SUMMARY:World Chess Day
DESCRIPTION:
URL:https://www.harmonyhouseindia.org/news-and-events/world-chess-day/
END:VEVENT
BEGIN:VEVENT
DTSTART;VALUE=DATE:20230715
DTEND;VALUE=DATE:20230716
DTSTAMP:20260423T145909
CREATED:20230104T124637Z
LAST-MODIFIED:20230104T124637Z
UID:7961-1689379200-1689465599@www.harmonyhouseindia.org
SUMMARY:World Youth Skill Day
DESCRIPTION:
URL:https://www.harmonyhouseindia.org/news-and-events/world-youth-skill-day/
END:VEVENT
BEGIN:VEVENT
DTSTART;VALUE=DATE:20230713
DTEND;VALUE=DATE:20230714
DTSTAMP:20260423T145909
CREATED:20230104T124552Z
LAST-MODIFIED:20230104T124552Z
UID:7959-1689206400-1689292799@www.harmonyhouseindia.org
SUMMARY:World ADHD Day
DESCRIPTION:
URL:https://www.harmonyhouseindia.org/news-and-events/world-adhd-day/
END:VEVENT
BEGIN:VEVENT
DTSTART;VALUE=DATE:20230703
DTEND;VALUE=DATE:20230704
DTSTAMP:20260423T145909
CREATED:20230104T124506Z
LAST-MODIFIED:20230104T124506Z
UID:7957-1688342400-1688428799@www.harmonyhouseindia.org
SUMMARY:International Plastic Bag Free Day
DESCRIPTION:
URL:https://www.harmonyhouseindia.org/news-and-events/international-plastic-bag-free-day/
END:VEVENT
BEGIN:VEVENT
DTSTART;VALUE=DATE:20230626
DTEND;VALUE=DATE:20230627
DTSTAMP:20260423T145909
CREATED:20230104T124401Z
LAST-MODIFIED:20230104T124401Z
UID:7955-1687737600-1687823999@www.harmonyhouseindia.org
SUMMARY:International Day against Drug Abus
DESCRIPTION:
URL:https://www.harmonyhouseindia.org/news-and-events/international-day-against-drug-abus/
END:VEVENT
BEGIN:VEVENT
DTSTART;VALUE=DATE:20230621
DTEND;VALUE=DATE:20230622
DTSTAMP:20260423T145909
CREATED:20230104T124315Z
LAST-MODIFIED:20230104T124315Z
UID:7953-1687305600-1687391999@www.harmonyhouseindia.org
SUMMARY:International Day of Yoga / World Music Day
DESCRIPTION:
URL:https://www.harmonyhouseindia.org/news-and-events/international-day-of-yoga-world-music-day/
END:VEVENT
END:VCALENDAR